BEGIN:VCALENDAR
VERSION:2.0
PRODID:-//Día de la persona emprendedora//EmprenemJunts//ES
BEGIN:VEVENT
UID:Evento_1384
DTSTAMP:20100629T170000Z
DTSTART:20100629T170000Z
DTEND:20100629T200000Z
SUMMARY:Iniciador en Villena (E-commerce)
DESCRIPTION:
LOCATION:VILLENA (Alicante)
URL:https://diadelapersonaemprendedora.emprenemjunts.es/?op=14&n=1384
END:VEVENT
END:VCALENDAR
