BEGIN:VCALENDAR
VERSION:2.0
PRODID:-//CEEI Valencia//EmprenemJunts//ES
BEGIN:VEVENT
UID:Evento_1368
DTSTAMP:20100624T170000Z
DTSTART:20100624T170000Z
DTEND:20100624T190000Z
SUMMARY:Iniciador Valencia - Javier Megias: Diseño de modelos de negocio para emprendedores
DESCRIPTION:
LOCATION:Valencia
URL:https://ceeivalencia.emprenemjunts.es/?op=14&n=1368
END:VEVENT
END:VCALENDAR
