BEGIN:VCALENDAR
VERSION:2.0
PRODID:-//CEEI Elche//EmprenemJunts//ES
BEGIN:VEVENT
UID:Evento_1361
DTSTAMP:20100611T073000Z
DTSTART:20100611T073000Z
DTEND:20100611T123000Z
SUMMARY:VIDA Y MODA. ELCHE EN BOCA DE TODOS
DESCRIPTION:
LOCATION:03203 Elche
URL:https://ceeielche.emprenemjunts.es/?op=14&n=1361
END:VEVENT
END:VCALENDAR
