BEGIN:VCALENDAR
VERSION:2.0
PRODID:-//CEEI Alcoy//EmprenemJunts//ES
BEGIN:VEVENT
UID:Evento_1351
DTSTAMP:20100619T070000Z
DTSTART:20100619T070000Z
DTEND:20100619T120000Z
SUMMARY:\'Un modelo económico posible: el que se fundamenta en la tierra en la que vivimos\', Jornada
DESCRIPTION:
LOCATION:Muro (Alicante)
URL:https://ceeialcoi.emprenemjunts.es/?op=14&n=1351
END:VEVENT
END:VCALENDAR
