BEGIN:VCALENDAR
VERSION:2.0
PRODID:-//CEEI Valencia//EmprenemJunts//ES
BEGIN:VEVENT
UID:Evento_1336
DTSTAMP:20100608T070000Z
DTSTART:20100608T070000Z
DTEND:20100608T103000Z
SUMMARY:El Interim Manager: Una nueva modalidad de gestión comprometida con la rentabilidad
DESCRIPTION:
LOCATION:Valencia
URL:https://ceeivalencia.emprenemjunts.es/?op=14&n=1336
END:VEVENT
END:VCALENDAR
