BEGIN:VCALENDAR
VERSION:2.0
PRODID:-//CEEI Valencia//EmprenemJunts//ES
BEGIN:VEVENT
UID:Evento_1335
DTSTAMP:20100616T073000Z
DTSTART:20100616T073000Z
DTEND:20100616T120000Z
SUMMARY:Los caminos de la reactivación ¿Cómo será el mundo y las empresas tras la crisis?
DESCRIPTION:
LOCATION:Valencia
URL:https://ceeivalencia.emprenemjunts.es/?op=14&n=1335
END:VEVENT
END:VCALENDAR
