BEGIN:VCALENDAR
VERSION:2.0
PRODID:-//CEEI Alcoy//EmprenemJunts//ES
BEGIN:VEVENT
UID:Evento_1319
DTSTAMP:20100526T080000Z
DTSTART:20100526T080000Z
DTEND:20100526T110000Z
SUMMARY:Emprendedores: Un impulso europeo a tus ideas
DESCRIPTION:
LOCATION:Alicante
URL:https://ceeialcoi.emprenemjunts.es/?op=14&n=1319
END:VEVENT
END:VCALENDAR
