BEGIN:VCALENDAR
VERSION:2.0
PRODID:-//CEEI Alcoy//EmprenemJunts//ES
BEGIN:VEVENT
UID:Evento_13159
DTSTAMP:20180212T092907Z
DTSTART:20180405T141500Z
DTEND:20180405T173000Z
SUMMARY:Jornada Inteligencia Comercial. Vender es fácil si sabes cómo
DESCRIPTION:Impartida por Ada Morales. Consultora. Coach ejecutivo y comercial. Docente
LOCATION:Alcoi/Alcoy (Alicante)
URL:https://ceeialcoi.emprenemjunts.es/?op=14&n=13159
GEO:38.697281;-0.476990
END:VEVENT
END:VCALENDAR
