BEGIN:VCALENDAR
VERSION:2.0
PRODID:-//CEEI Alcoy//EmprenemJunts//ES
BEGIN:VEVENT
UID:Evento_1304
DTSTAMP:20100701T113000Z
DTSTART:20100701T113000Z
DTEND:20100701T120000Z
SUMMARY:Premios CEEI Alcoy IMPIVA 2010
DESCRIPTION:
LOCATION:Alcoy
URL:https://ceeialcoi.emprenemjunts.es/?op=14&n=1304
END:VEVENT
END:VCALENDAR
