BEGIN:VCALENDAR
VERSION:2.0
PRODID:-//CEEI Castellón//EmprenemJunts//ES
BEGIN:VEVENT
UID:Evento_1291
DTSTAMP:20100511T220000Z
DTSTART:20100511T220000Z
DTEND:20100511T220000Z
SUMMARY:Curso On-Line: Marketing TÃ¡ctico
DESCRIPTION:
LOCATION:
URL:https://ceeicastellon.emprenemjunts.es/?op=14&n=1291
END:VEVENT
END:VCALENDAR
