BEGIN:VCALENDAR
VERSION:2.0
PRODID:-//CEEI Castellón//EmprenemJunts//ES
BEGIN:VEVENT
UID:Evento_1290
DTSTAMP:20100601T072000Z
DTSTART:20100601T072000Z
DTEND:20100601T160000Z
SUMMARY: Nuevas oportunidades de negocio que ofrece el sistema de adquisiciones de las Naciones Unidas
DESCRIPTION:
LOCATION:CastellÃ³n 
URL:https://ceeicastellon.emprenemjunts.es/?op=14&n=1290
END:VEVENT
END:VCALENDAR
