BEGIN:VCALENDAR
VERSION:2.0
PRODID:-//CEEI Elche//EmprenemJunts//ES
BEGIN:VEVENT
UID:Evento_1286
DTSTAMP:20100525T160000Z
DTSTART:20100525T160000Z
DTEND:20100525T183000Z
SUMMARY:1er Encuentro Empresarial Elx Commercial Speech
DESCRIPTION:
LOCATION:Elche
URL:https://ceeielche.emprenemjunts.es/?op=14&n=1286
END:VEVENT
END:VCALENDAR
