BEGIN:VCALENDAR
VERSION:2.0
PRODID:-//CEEI Valencia//EmprenemJunts//ES
BEGIN:VEVENT
UID:Evento_1285
DTSTAMP:20100513T140000Z
DTSTART:20100513T140000Z
DTEND:20100513T180000Z
SUMMARY:TALLER GENERACIÓN DE IDEAS DE NEGOCIOS
DESCRIPTION:
LOCATION:Valencia
URL:https://ceeivalencia.emprenemjunts.es/?op=14&n=1285
END:VEVENT
END:VCALENDAR
