BEGIN:VCALENDAR
VERSION:2.0
PRODID:-//CEEI Castellón//EmprenemJunts//ES
BEGIN:VEVENT
UID:Evento_1283
DTSTAMP:20100525T073000Z
DTSTART:20100525T073000Z
DTEND:20100526T113000Z
SUMMARY:Seminario profesional: Plan de marketing estratÃ©gico
DESCRIPTION:
LOCATION:Valencia
URL:https://ceeicastellon.emprenemjunts.es/?op=14&n=1283
END:VEVENT
END:VCALENDAR
