BEGIN:VCALENDAR
VERSION:2.0
PRODID:-//CEEI Castellón//EmprenemJunts//ES
BEGIN:VEVENT
UID:Evento_1282
DTSTAMP:20100513T070000Z
DTSTART:20100513T070000Z
DTEND:20100513T170000Z
SUMMARY:Seminario profesional: DÃ³nde fallan nuestros comerciales y cÃ³mo evitarlo
DESCRIPTION:
LOCATION:Valencia
URL:https://ceeicastellon.emprenemjunts.es/?op=14&n=1282
END:VEVENT
END:VCALENDAR
