BEGIN:VCALENDAR
VERSION:2.0
PRODID:-//CEEI Valencia//EmprenemJunts//ES
BEGIN:VEVENT
UID:Evento_1265
DTSTAMP:20100513T180000Z
DTSTART:20100513T180000Z
DTEND:20100512T220000Z
SUMMARY:Charla: Emprender: Oportunidades, Tendencias y Recursos
DESCRIPTION:
LOCATION:Chiva
URL:https://ceeivalencia.emprenemjunts.es/?op=14&n=1265
END:VEVENT
END:VCALENDAR
