BEGIN:VCALENDAR
VERSION:2.0
PRODID:-//CEEI Valencia//EmprenemJunts//ES
BEGIN:VEVENT
UID:Evento_1258
DTSTAMP:20100513T070000Z
DTSTART:20100513T070000Z
DTEND:20100513T100000Z
SUMMARY:JORNADA SOBRE EL VOLUNTARIADO CORPORATIVO
DESCRIPTION:
LOCATION:Valencia
URL:https://ceeivalencia.emprenemjunts.es/?op=14&n=1258
END:VEVENT
END:VCALENDAR
