BEGIN:VCALENDAR
VERSION:2.0
PRODID:-//CEEI Valencia//EmprenemJunts//ES
BEGIN:VEVENT
UID:Evento_1242
DTSTAMP:20100511T070000Z
DTSTART:20100511T070000Z
DTEND:20100511T120000Z
SUMMARY:Jornada sobre VII Programa Marco de I+D+i en el área de Salud, Biotecnología y Agroalimentación
DESCRIPTION:
LOCATION:Valencia
URL:https://ceeivalencia.emprenemjunts.es/?op=14&n=1242
END:VEVENT
END:VCALENDAR
