BEGIN:VCALENDAR
VERSION:2.0
PRODID:-//CEEI Castellón//EmprenemJunts//ES
BEGIN:VEVENT
UID:Evento_1239
DTSTAMP:20100518T073000Z
DTSTART:20100518T073000Z
DTEND:20100518T180000Z
SUMMARY:Â“Finanzas para no financierosÂ”
DESCRIPTION:
LOCATION:CastellÃ³n
URL:https://ceeicastellon.emprenemjunts.es/?op=14&n=1239
END:VEVENT
END:VCALENDAR
