BEGIN:VCALENDAR
VERSION:2.0
PRODID:-//CEEI Valencia//EmprenemJunts//ES
BEGIN:VEVENT
UID:Evento_1238
DTSTAMP:20100506T143000Z
DTSTART:20100506T143000Z
DTEND:20100506T170000Z
SUMMARY:Seminario Nuevos Modelos de Negocios en el Sector Energético
DESCRIPTION:
LOCATION:Valencia
URL:https://ceeivalencia.emprenemjunts.es/?op=14&n=1238
END:VEVENT
END:VCALENDAR
