BEGIN:VCALENDAR
VERSION:2.0
PRODID:-//CEEI Alcoy//EmprenemJunts//ES
BEGIN:VEVENT
UID:Evento_1212
DTSTAMP:20100617T073000Z
DTSTART:20100617T073000Z
DTEND:20100617T163000Z
SUMMARY:Curso \'Elaboración de propuestas y participación en el VII Programa Marco de la Comisión Europea\'
DESCRIPTION:
LOCATION:Alicante
URL:https://ceeialcoi.emprenemjunts.es/?op=14&n=1212
END:VEVENT
END:VCALENDAR
