BEGIN:VCALENDAR
VERSION:2.0
PRODID:-//CEEI Alcoy//EmprenemJunts//ES
BEGIN:VEVENT
UID:Evento_1210
DTSTAMP:20100610T073000Z
DTSTART:20100610T073000Z
DTEND:20100610T163000Z
SUMMARY:Curso \'Elaboración de propuestas y participación en el VII Programa Marco de la Comisión Europea\'
DESCRIPTION:
LOCATION:Alicante
URL:https://ceeialcoi.emprenemjunts.es/?op=14&n=1210
END:VEVENT
END:VCALENDAR
