BEGIN:VCALENDAR
VERSION:2.0
PRODID:-//CEEI Alcoy//EmprenemJunts//ES
BEGIN:VEVENT
UID:Evento_1209
DTSTAMP:20100520T073000Z
DTSTART:20100520T073000Z
DTEND:20100520T163000Z
SUMMARY:Curso \'Innovación e igualdad\'
DESCRIPTION:
LOCATION:Alicante
URL:https://ceeialcoi.emprenemjunts.es/?op=14&n=1209
END:VEVENT
END:VCALENDAR
