BEGIN:VCALENDAR
VERSION:2.0
PRODID:-//CEEI Alcoy//EmprenemJunts//ES
BEGIN:VEVENT
UID:Evento_1208
DTSTAMP:20100513T073000Z
DTSTART:20100513T073000Z
DTEND:20100513T163000Z
SUMMARY:Curso \'Innovación e igualdad\'
DESCRIPTION:
LOCATION:Alicante
URL:https://ceeialcoi.emprenemjunts.es/?op=14&n=1208
END:VEVENT
END:VCALENDAR
