BEGIN:VCALENDAR
VERSION:2.0
PRODID:-//CEEI Elche//EmprenemJunts//ES
BEGIN:VEVENT
UID:Evento_1204
DTSTAMP:20100504T073000Z
DTSTART:20100504T073000Z
DTEND:20100504T120000Z
SUMMARY:Internacionalización y modelos de negocio. Encuentro Emprenemjunts.
DESCRIPTION:
LOCATION:03400 Villena
URL:https://ceeielche.emprenemjunts.es/?op=14&n=1204
END:VEVENT
END:VCALENDAR
