BEGIN:VCALENDAR
VERSION:2.0
PRODID:-//CEEI Castellón//EmprenemJunts//ES
BEGIN:VEVENT
UID:Evento_1203
DTSTAMP:20100430T163000Z
DTSTART:20100430T163000Z
DTEND:20100429T220000Z
SUMMARY:Iniciador CastellÃ³n: Belinda Galiano
DESCRIPTION:
LOCATION:CastellÃ³n
URL:https://ceeicastellon.emprenemjunts.es/?op=14&n=1203
END:VEVENT
END:VCALENDAR
