BEGIN:VCALENDAR
VERSION:2.0
PRODID:-//CEEI Castellón//EmprenemJunts//ES
BEGIN:VEVENT
UID:Evento_1184
DTSTAMP:20100528T073000Z
DTSTART:20100528T073000Z
DTEND:20100528T170000Z
SUMMARY:Markeyting Up! Las Claves de Ã©xito en los nuevos mercados
DESCRIPTION:
LOCATION:CastellÃ³n
URL:https://ceeicastellon.emprenemjunts.es/?op=14&n=1184
END:VEVENT
END:VCALENDAR
