BEGIN:VCALENDAR
VERSION:2.0
PRODID:-//CEEI Alcoy//EmprenemJunts//ES
BEGIN:VEVENT
UID:Evento_1174
DTSTAMP:20100507T080000Z
DTSTART:20100507T080000Z
DTEND:20100507T113000Z
SUMMARY:Congreso \'Desarrollo local en la provincia de Alicante\'
DESCRIPTION:
LOCATION:03013 Alicante 
URL:https://ceeialcoi.emprenemjunts.es/?op=14&n=1174
END:VEVENT
END:VCALENDAR
