BEGIN:VCALENDAR
VERSION:2.0
PRODID:-//CEEI Castellón//EmprenemJunts//ES
BEGIN:VEVENT
UID:Evento_1142
DTSTAMP:20100422T083000Z
DTSTART:20100422T083000Z
DTEND:20100422T133000Z
SUMMARY:Dia de la Persona Emprendedora CastellÃ³n
DESCRIPTION:
LOCATION:CastellÃ³n
URL:https://ceeicastellon.emprenemjunts.es/?op=14&n=1142
END:VEVENT
END:VCALENDAR
