BEGIN:VCALENDAR
VERSION:2.0
PRODID:-//CEEI Castellón//EmprenemJunts//ES
BEGIN:VEVENT
UID:Evento_1141
DTSTAMP:20100429T100000Z
DTSTART:20100429T100000Z
DTEND:20100429T120000Z
SUMMARY:Jornada de GestiÃ³n Presupuestaria: innovaciÃ³n operativa
DESCRIPTION:
LOCATION:CastellÃ³n
URL:https://ceeicastellon.emprenemjunts.es/?op=14&n=1141
END:VEVENT
END:VCALENDAR
