BEGIN:VCALENDAR
VERSION:2.0
PRODID:-//CEEI Castellón//EmprenemJunts//ES
BEGIN:VEVENT
UID:Evento_1137
DTSTAMP:20100415T090000Z
DTSTART:20100415T090000Z
DTEND:20100415T111500Z
SUMMARY:No Limits: Jornada CEEI CastellÃ³n
DESCRIPTION:
LOCATION:CastellÃ³n
URL:https://ceeicastellon.emprenemjunts.es/?op=14&n=1137
END:VEVENT
END:VCALENDAR
