BEGIN:VCALENDAR
VERSION:2.0
PRODID:-//CEEI Castellón//EmprenemJunts//ES
BEGIN:VEVENT
UID:Evento_1109
DTSTAMP:20100331T163000Z
DTSTART:20100331T163000Z
DTEND:20100331T183000Z
SUMMARY:Foro de InversiÃ³n CV BAN
DESCRIPTION:
LOCATION:CastellÃ³n
URL:https://ceeicastellon.emprenemjunts.es/?op=14&n=1109
END:VEVENT
END:VCALENDAR
