BEGIN:VCALENDAR
VERSION:2.0
PRODID:-//CEEI Valencia//EmprenemJunts//ES
BEGIN:VEVENT
UID:Evento_1107
DTSTAMP:20100324T173000Z
DTSTART:20100324T173000Z
DTEND:20100324T193000Z
SUMMARY:Jornada \"Nuevas Tendencias en Recursos Humanos\"
DESCRIPTION:
LOCATION:Valencia
URL:https://ceeivalencia.emprenemjunts.es/?op=14&n=1107
END:VEVENT
END:VCALENDAR
