BEGIN:VCALENDAR
VERSION:2.0
PRODID:-//CEEI Castellón//EmprenemJunts//ES
BEGIN:VEVENT
UID:Evento_1091
DTSTAMP:20100325T100000Z
DTSTART:20100325T100000Z
DTEND:20100325T123000Z
SUMMARY:Jornada Â“I+d+i=SÂ”Â”Â¿CÃ³mo conseguir la mÃ¡xima deducciÃ³n fiscal en un proyecto de I+d+i?Â”
DESCRIPTION:
LOCATION:CastellÃ³n
URL:https://ceeicastellon.emprenemjunts.es/?op=14&n=1091
END:VEVENT
END:VCALENDAR
