BEGIN:VCALENDAR
VERSION:2.0
PRODID:-//CEEI Castellón//EmprenemJunts//ES
BEGIN:VEVENT
UID:Evento_1089
DTSTAMP:20100317T113000Z
DTSTART:20100317T113000Z
DTEND:20100317T123000Z
SUMMARY:PresentaciÃ³n Espais, la revista del emprendedor.
DESCRIPTION:
LOCATION:CastellÃ³n
URL:https://ceeicastellon.emprenemjunts.es/?op=14&n=1089
END:VEVENT
END:VCALENDAR
