BEGIN:VCALENDAR
VERSION:2.0
PRODID:-//CEEI Castellón//EmprenemJunts//ES
BEGIN:VEVENT
UID:Evento_1086
DTSTAMP:20100330T130000Z
DTSTART:20100330T130000Z
DTEND:20100525T170000Z
SUMMARY:Curso:Responsables en dinamizaciÃ³n de la innovaciÃ³n en la empresa
DESCRIPTION:
LOCATION:CastellÃ³n
URL:https://ceeicastellon.emprenemjunts.es/?op=14&n=1086
END:VEVENT
END:VCALENDAR
