BEGIN:VCALENDAR
VERSION:2.0
PRODID:-//CEEI Elche//EmprenemJunts//ES
BEGIN:VEVENT
UID:Evento_1067
DTSTAMP:20100304T083000Z
DTSTART:20100304T083000Z
DTEND:20100304T123000Z
SUMMARY:ENCUENTRO ENPRENEMJUNTS. ¿Puedes ver lo que está surgiendo a tu alrededor?
DESCRIPTION:
LOCATION:Elche
URL:https://ceeielche.emprenemjunts.es/?op=14&n=1067
END:VEVENT
END:VCALENDAR
