BEGIN:VCALENDAR
VERSION:2.0
PRODID:-//CEEI Valencia//EmprenemJunts//ES
BEGIN:VEVENT
UID:Evento_1066
DTSTAMP:20100304T150000Z
DTSTART:20100304T150000Z
DTEND:20100304T181500Z
SUMMARY:Seminario: \"Práctica empresarial en Gestión de I+D+i
DESCRIPTION:
LOCATION:Paterna (Valencia)
URL:https://ceeivalencia.emprenemjunts.es/?op=14&n=1066
END:VEVENT
END:VCALENDAR
